BEGIN:VCALENDAR
VERSION:2.0
PRODID:-//eventon.com NONSGML v1.0//EN
CALSCALE:GREGORIAN
METHOD:PUBLISH
BEGIN:VEVENT
UID:69e76b99a8012
DTSTAMP:20260421T122041Z
DTSTART:20250503T070000Z
DTEND:20250504T160000Z
LOCATION:Fahrplatz am Hof Hennig Mühlenstraße 26-28 25712 Buchholz/Dithmarschen
SUMMARY:Fahrtraining mit Peter Tischer
DESCRIPTION:Fahrtraining mit Peter Tischer\nhttps://www.gespannfahrer-stein
 burg.de/events/fahrtraining-mit-peter-tischer
URL:https://www.gespannfahrer-steinburg.de/events/fahrtraining-mit-peter-tischer
END:VEVENT
END:VCALENDAR