BEGIN:VCALENDAR
VERSION:2.0
PRODID:-//eventon.com NONSGML v1.0//EN
CALSCALE:GREGORIAN
METHOD:PUBLISH
BEGIN:VEVENT
UID:69e76d262acfd
DTSTAMP:20260421T122718Z
DTSTART:20260604T170000Z
DTEND:20260604T190000Z
LOCATION:Fahrplatz am Hof Hennig Mühlenstraße 26-28 25712 Buchholz/Dithmarschen
SUMMARY:Stammtisch
DESCRIPTION:Stammtisch\nhttps://www.gespannfahrer-steinburg.de/events/stamm
 tisch-3
URL:https://www.gespannfahrer-steinburg.de/events/stammtisch-3
END:VEVENT
END:VCALENDAR