BEGIN:VCALENDAR
VERSION:2.0
PRODID:-//eventon.com NONSGML v1.0//EN
CALSCALE:GREGORIAN
METHOD:PUBLISH
BEGIN:VEVENT
UID:69e72b45323cc
DTSTAMP:20260421T074613Z
DTSTART:20260502T120000Z
DTEND:20260502T160000Z
LOCATION:Fahrplatz am Hof Hennig Mühlenstraße 26-28 25712 Buchholz/Dithmarschen
SUMMARY:Jugendfahren
DESCRIPTION:Jugendfahren\nhttps://www.gespannfahrer-steinburg.de/events/jug
 endfahren-3
URL:https://www.gespannfahrer-steinburg.de/events/jugendfahren-3
END:VEVENT
END:VCALENDAR