BEGIN:VCALENDAR
VERSION:2.0
PRODID:-//eventon.com NONSGML v1.0//EN
CALSCALE:GREGORIAN
METHOD:PUBLISH
BEGIN:VEVENT
UID:69e76d1148282
DTSTAMP:20260421T122657Z
DTSTART:20250812T150000Z
DTEND:20250812T190000Z
LOCATION:Fahrplatz am Hof Hennig Mühlenstraße 26-28 25712 Buchholz/Dithmarschen
SUMMARY:Fahrtraining mit Rainer Duen
DESCRIPTION:Fahrtraining mit Rainer Duen\nhttps://www.gespannfahrer-steinbu
 rg.de/events/fahrtraining-mit-rainer-duen
URL:https://www.gespannfahrer-steinburg.de/events/fahrtraining-mit-rainer-duen
END:VEVENT
END:VCALENDAR